BEGIN:VCALENDAR
VERSION:2.0
PRODID:-//Corruption Watch - ECPv6.15.20//NONSGML v1.0//EN
CALSCALE:GREGORIAN
METHOD:PUBLISH
X-WR-CALNAME:Corruption Watch
X-ORIGINAL-URL:https://www.corruptionwatch.org.za
X-WR-CALDESC:Events for Corruption Watch
REFRESH-INTERVAL;VALUE=DURATION:PT1H
X-Robots-Tag:noindex
X-PUBLISHED-TTL:PT1H
BEGIN:VTIMEZONE
TZID:Africa/Johannesburg
BEGIN:STANDARD
TZOFFSETFROM:+0200
TZOFFSETTO:+0200
TZNAME:SAST
DTSTART:20160101T000000
END:STANDARD
END:VTIMEZONE
BEGIN:VEVENT
DTSTART;VALUE=DATE:20171016
DTEND;VALUE=DATE:20171017
DTSTAMP:20260422T165359
CREATED:20171006T073853Z
LAST-MODIFIED:20171006T073853Z
UID:13843-1508112000-1508198399@www.corruptionwatch.org.za
SUMMARY:Submissions on party political funding
DESCRIPTION:
URL:https://www.corruptionwatch.org.za/event/submissions-party-political-funding/
LOCATION:Parliament\, Cape Town\, Western Cape\, South Africa
CATEGORIES:Policy and legislative work
END:VEVENT
END:VCALENDAR