BEGIN:VCALENDAR
VERSION:2.0
PRODID:-//Corruption Watch - ECPv6.15.20//NONSGML v1.0//EN
CALSCALE:GREGORIAN
METHOD:PUBLISH
X-ORIGINAL-URL:https://www.corruptionwatch.org.za
X-WR-CALDESC:Events for Corruption Watch
REFRESH-INTERVAL;VALUE=DURATION:PT1H
X-Robots-Tag:noindex
X-PUBLISHED-TTL:PT1H
BEGIN:VTIMEZONE
TZID:Africa/Johannesburg
BEGIN:STANDARD
TZOFFSETFROM:+0200
TZOFFSETTO:+0200
TZNAME:SAST
DTSTART:20200101T000000
END:STANDARD
END:VTIMEZONE
BEGIN:VEVENT
DTSTART;TZID=Africa/Johannesburg:20210727T120000
DTEND;TZID=Africa/Johannesburg:20210727T133000
DTSTAMP:20260421T092432
CREATED:20210723T081214Z
LAST-MODIFIED:20210723T081636Z
UID:29803-1627387200-1627392600@www.corruptionwatch.org.za
SUMMARY:Webinar: Deferred Prosecution Agreements - a solution to prosecuting backlog?
DESCRIPTION:FTI Consulting South Africa and Corruption Watch recently co-authored an article titled Addressing Corruption in South Africa in which we argued\, inter alia\, that consideration should be given to allowing criminal offenders to self-disclose and subject themselves to administrative penalties to avoid criminal prosecution through the mechanism of deferred prosecution agreements (DPAs). \n\n\n\n\nJoin us for a session hosted by Petrus Marais to hear more from experts on the possibility of using DPAs to tackle corruption: \n\n\n\nAdv. Hermione Cronje\, South African prosecutor and the head of the investigating directorate in the Office of the National Director of Public ProsecutionAdv. Kate Hofmeyr\, evidence leader at the Zondo commissionAdv. Gilbert Swats\, forensic consultant and former deputy director of public prosecutionsKaram Singh\, head of Legal & Investigations at Corruption Watch  \n\n\n\n\nREGISTER HERE
URL:https://www.corruptionwatch.org.za/event/webinar-deferred-prosecution-agreements-a-solution-to-prosecuting-backlog/
END:VEVENT
END:VCALENDAR