BEGIN:VCALENDAR
VERSION:2.0
PRODID:-//Corruption Watch - ECPv6.15.20//NONSGML v1.0//EN
CALSCALE:GREGORIAN
METHOD:PUBLISH
X-WR-CALNAME:Corruption Watch
X-ORIGINAL-URL:https://www.corruptionwatch.org.za
X-WR-CALDESC:Events for Corruption Watch
REFRESH-INTERVAL;VALUE=DURATION:PT1H
X-Robots-Tag:noindex
X-PUBLISHED-TTL:PT1H
BEGIN:VTIMEZONE
TZID:Africa/Johannesburg
BEGIN:STANDARD
TZOFFSETFROM:+0200
TZOFFSETTO:+0200
TZNAME:SAST
DTSTART:20200101T000000
END:STANDARD
END:VTIMEZONE
BEGIN:VEVENT
DTSTART;TZID=Africa/Johannesburg:20210728T100000
DTEND;TZID=Africa/Johannesburg:20210728T130000
DTSTAMP:20260421T092205
CREATED:20210723T084447Z
LAST-MODIFIED:20210723T084734Z
UID:29809-1627466400-1627477200@www.corruptionwatch.org.za
SUMMARY:Civil society convening on leadership\, elected representatives and the unrest in South Africa
DESCRIPTION:The Heinrich Boell Foundation\, Womxn and Democracy Initiative\, Public Service Accountability Monitor\, and Parliamentary Monitoring Group invite you to participate in a convening on the current crises in South Africa and reflect on questions of leadership – specifically the role of legislatures and elected representatives leading up to this and beyond. \n\n\n\n\nThis convening aims to create a safe space for reflection while at the same time allowing for complex discussions\, among a diverse group of people\, who don’t all know each other. We understand this is a challenge. It will require that we enter prepared to listen\, and mindful of how we exercise our different and relative power in the conversation. \n\n\n\nWe will allocate time at the beginning of the convening to develop collective strategies to commit to recognise the limits of safety and to respond to the high levels of distress\, anger and helplessness that are being articulated by many. Part of this will be reaching consensus on how to document the meeting and share reflections outside the space. \n\n\n\nKindly RSVP by Monday\, 26 July 2021. All data requests must be completed by Monday\, 26 July 2021. \n\n\n\n\nREGISTER HERE\n\n\n\nPLEASE COMPLETE THIS FORM IF YOU REQUIRE DATA TO ATTEND
URL:https://www.corruptionwatch.org.za/event/civil-society-convening-on-leadership-elected-representatives-and-the-unrest-in-south-africa/
END:VEVENT
END:VCALENDAR