BEGIN:VCALENDAR
VERSION:2.0
PRODID:-//Corruption Watch - ECPv6.15.20//NONSGML v1.0//EN
CALSCALE:GREGORIAN
METHOD:PUBLISH
X-WR-CALNAME:Corruption Watch
X-ORIGINAL-URL:https://www.corruptionwatch.org.za
X-WR-CALDESC:Events for Corruption Watch
REFRESH-INTERVAL;VALUE=DURATION:PT1H
X-Robots-Tag:noindex
X-PUBLISHED-TTL:PT1H
BEGIN:VTIMEZONE
TZID:Africa/Johannesburg
BEGIN:STANDARD
TZOFFSETFROM:+0200
TZOFFSETTO:+0200
TZNAME:SAST
DTSTART:20200101T000000
END:STANDARD
END:VTIMEZONE
BEGIN:VEVENT
DTSTART;TZID=Africa/Johannesburg:20210812T113000
DTEND;TZID=Africa/Johannesburg:20210812T123000
DTSTAMP:20260421T110442
CREATED:20210806T111713Z
LAST-MODIFIED:20210806T122115Z
UID:29945-1628767800-1628771400@www.corruptionwatch.org.za
SUMMARY:Webinar: Launch of CW research report - Improving Transparency and Accountability in the Flow of Benefits to Mining Communities
DESCRIPTION:In 2018\, CW published its Mining Royalties Research Report that looked at equity benefits and compensation flowing from mining\, and whether these were reaching mining-affected communities. It concluded that widespread corruption was evident and that\, overall\, the communities most affected by mining were not benefiting\, but continued to live in conditions of poverty.  \n\n\n\nWe now present part II of that research\, a report that strives to understand how best to intervene in shaping the financial and legal mechanisms used to funnel benefits to mining-affected communities. \n\n\n\n\nJoin us for a discussion on the victories\, lessons and future directions for mining communities. \n\n\n\nSpeakers: \n\n\n\nProfessor Sonwabile Mnwana of Fort Hare University \n\n\n\nErica Emdon of Public Interest Practice \n\n\n\n\nJOIN HERE (Microsoft Teams)
URL:https://www.corruptionwatch.org.za/event/webinar-launch-of-cw-research-report-improving-transparency-and-accountability-in-the-flow-of-benefits-to-mining-communities/
END:VEVENT
END:VCALENDAR