BEGIN:VCALENDAR
VERSION:2.0
PRODID:-//Corruption Watch - ECPv6.15.20//NONSGML v1.0//EN
CALSCALE:GREGORIAN
METHOD:PUBLISH
X-WR-CALNAME:Corruption Watch
X-ORIGINAL-URL:https://www.corruptionwatch.org.za
X-WR-CALDESC:Events for Corruption Watch
REFRESH-INTERVAL;VALUE=DURATION:PT1H
X-Robots-Tag:noindex
X-PUBLISHED-TTL:PT1H
BEGIN:VTIMEZONE
TZID:Africa/Johannesburg
BEGIN:STANDARD
TZOFFSETFROM:+0200
TZOFFSETTO:+0200
TZNAME:SAST
DTSTART:20200101T000000
END:STANDARD
END:VTIMEZONE
BEGIN:VEVENT
DTSTART;TZID=Africa/Johannesburg:20210820T110000
DTEND;TZID=Africa/Johannesburg:20210820T120000
DTSTAMP:20260421T110410
CREATED:20210810T115737Z
LAST-MODIFIED:20210810T124122Z
UID:29967-1629457200-1629460800@www.corruptionwatch.org.za
SUMMARY:Webinar: The use of technology in policing\, safety and security
DESCRIPTION:Technological advances have the potential of improving policing\, as well as enhancing safety and security in our communities. In this webinar\, we will explore tech solutions developed by Corruption Watch and Memeza\, an organisation specialising in tech community safety solutions. We will also gain valuable insight from the Civil Secretariat for Police as to how technology is currently being used to address police corruption and service issues. \n\n\n\n\nSpeakers: \n\n\n\nElmarie Pereira – MemezaMothupi Mafologela – Civilian Secretariat of Police \n\n\n\nModerator: \n\n\n\nMelusi Ncala – Corruption Watch \n\n\n\n\n\nREGISTER HERE
URL:https://www.corruptionwatch.org.za/event/webinar-the-use-of-technology-in-policing-safety-and-security/
END:VEVENT
END:VCALENDAR