BEGIN:VCALENDAR
VERSION:2.0
PRODID:-//Corruption Watch - ECPv6.15.20//NONSGML v1.0//EN
CALSCALE:GREGORIAN
METHOD:PUBLISH
X-ORIGINAL-URL:https://www.corruptionwatch.org.za
X-WR-CALDESC:Events for Corruption Watch
REFRESH-INTERVAL;VALUE=DURATION:PT1H
X-Robots-Tag:noindex
X-PUBLISHED-TTL:PT1H
BEGIN:VTIMEZONE
TZID:Africa/Johannesburg
BEGIN:STANDARD
TZOFFSETFROM:+0200
TZOFFSETTO:+0200
TZNAME:SAST
DTSTART:20200101T000000
END:STANDARD
END:VTIMEZONE
BEGIN:VEVENT
DTSTART;TZID=Africa/Johannesburg:20210915T100000
DTEND;TZID=Africa/Johannesburg:20210915T113000
DTSTAMP:20260423T122320
CREATED:20210915T071452Z
LAST-MODIFIED:20210915T072511Z
UID:30228-1631700000-1631705400@www.corruptionwatch.org.za
SUMMARY:Discussion: Developing African Anti-Corruption Tools
DESCRIPTION:This session of #DIYAfrica will reflect on the development of anti-corruption tools and the challenges experienced by developers and activists in developing impactful tools for citizens. The session will bring to light some strategies to developing effective anti-corruption tools on the continent. #DIYAfrica is presented by the Civic Tech Innovation Forum and Jamfest. \n\n\n\n\n\n\nSession partners: CTIN and Corruption Watch \n\n\n\nModerator: \n\n\n\nJimmy Maliseni: Senior Information and Advocacy Officer\, Alliance for Community Action Zambia \n\n\n\nPanellists: \n\n\n\nKavisha Pillay: Veza – enhancing transparency and promoting accountability in policing Maurice Nyambe: Executive Director\, Transparency International Zambia Cherese Thakur: Advocacy Coordinator\, amaBhungane Centre for Investigative Journalism \n\n\n\n\nJOIN STREAM
URL:https://www.corruptionwatch.org.za/event/discussion-developing-african-anti-corruption-tools/
END:VEVENT
END:VCALENDAR