BEGIN:VCALENDAR
VERSION:2.0
PRODID:-//Corruption Watch - ECPv6.15.20//NONSGML v1.0//EN
CALSCALE:GREGORIAN
METHOD:PUBLISH
X-WR-CALNAME:Corruption Watch
X-ORIGINAL-URL:https://www.corruptionwatch.org.za
X-WR-CALDESC:Events for Corruption Watch
REFRESH-INTERVAL;VALUE=DURATION:PT1H
X-Robots-Tag:noindex
X-PUBLISHED-TTL:PT1H
BEGIN:VTIMEZONE
TZID:Africa/Johannesburg
BEGIN:STANDARD
TZOFFSETFROM:+0200
TZOFFSETTO:+0200
TZNAME:SAST
DTSTART:20200101T000000
END:STANDARD
END:VTIMEZONE
BEGIN:VEVENT
DTSTART;TZID=Africa/Johannesburg:20211015T110000
DTEND;TZID=Africa/Johannesburg:20211015T120000
DTSTAMP:20260423T133124
CREATED:20211008T112109Z
LAST-MODIFIED:20211008T112112Z
UID:30642-1634295600-1634299200@www.corruptionwatch.org.za
SUMMARY:Webinar: Engaging with the ANC\, DA and EFF on their commitments to reduce local government corruption
DESCRIPTION:In the lead-up to local government elections\, join Corruption Watch as we put political parties in the hot seat and engage them on their proposals to eradicate corruption in municipalities. \n\n\n\n\nModerator: \n\n\n\nMelusi Ncala – Corruption Watch  \n\n\n\nGuests:  \n\n\n\nCilliers Brink – Democratic Alliance Khanya Ceza – Economic Freedom FightersBafuze Sicelo Yabo – African National Congress  \n\n\n\n\n\n\n\n\nREGISTER HERE
URL:https://www.corruptionwatch.org.za/event/webinar-engaging-with-the-anc-da-and-eff-on-their-commitments-to-reduce-local-government-corruption/
ATTACH;FMTTYPE=image/png:https://www.corruptionwatch.org.za/wp-content/uploads/2021/10/CW-event-header.png
END:VEVENT
END:VCALENDAR