BEGIN:VCALENDAR
VERSION:2.0
PRODID:-//Corruption Watch - ECPv6.15.20//NONSGML v1.0//EN
CALSCALE:GREGORIAN
METHOD:PUBLISH
X-ORIGINAL-URL:https://www.corruptionwatch.org.za
X-WR-CALDESC:Events for Corruption Watch
REFRESH-INTERVAL;VALUE=DURATION:PT1H
X-Robots-Tag:noindex
X-PUBLISHED-TTL:PT1H
BEGIN:VTIMEZONE
TZID:Africa/Johannesburg
BEGIN:STANDARD
TZOFFSETFROM:+0200
TZOFFSETTO:+0200
TZNAME:SAST
DTSTART:20160101T000000
END:STANDARD
END:VTIMEZONE
BEGIN:VEVENT
DTSTART;TZID=Africa/Johannesburg:20171010T100000
DTEND;TZID=Africa/Johannesburg:20171010T120000
DTSTAMP:20260422T104603
CREATED:20171006T073555Z
LAST-MODIFIED:20171006T073555Z
UID:13837-1507629600-1507636800@www.corruptionwatch.org.za
SUMMARY:Mining for Sustainable Development - launch of South Africa report
DESCRIPTION:
URL:https://www.corruptionwatch.org.za/event/mining-sustainable-development-launch-south-africa-report/
LOCATION:Protea Hotel Parktonian\, 120 De Korte Street\, Wanderers View Estate\, Johannesburg\, South Africa
END:VEVENT
BEGIN:VEVENT
DTSTART;VALUE=DATE:20171016
DTEND;VALUE=DATE:20171017
DTSTAMP:20260422T104603
CREATED:20171006T073853Z
LAST-MODIFIED:20171006T073853Z
UID:13843-1508112000-1508198399@www.corruptionwatch.org.za
SUMMARY:Submissions on party political funding
DESCRIPTION:
URL:https://www.corruptionwatch.org.za/event/submissions-party-political-funding/
LOCATION:Parliament\, Cape Town\, Western Cape\, South Africa
CATEGORIES:Policy and legislative work
END:VEVENT
BEGIN:VEVENT
DTSTART;VALUE=DATE:20171019
DTEND;VALUE=DATE:20171021
DTSTAMP:20260422T104603
CREATED:20171006T074104Z
LAST-MODIFIED:20171006T074104Z
UID:13847-1508371200-1508543999@www.corruptionwatch.org.za
SUMMARY:Black Sash engagement
DESCRIPTION:To discuss legal strategy on Sassa/ minister.
URL:https://www.corruptionwatch.org.za/event/black-sash-engagement/
END:VEVENT
END:VCALENDAR