BEGIN:VCALENDAR
VERSION:2.0
PRODID:-//Corruption Watch - ECPv6.15.20//NONSGML v1.0//EN
CALSCALE:GREGORIAN
METHOD:PUBLISH
X-WR-CALNAME:Corruption Watch
X-ORIGINAL-URL:https://www.corruptionwatch.org.za
X-WR-CALDESC:Events for Corruption Watch
REFRESH-INTERVAL;VALUE=DURATION:PT1H
X-Robots-Tag:noindex
X-PUBLISHED-TTL:PT1H
BEGIN:VTIMEZONE
TZID:Africa/Johannesburg
BEGIN:STANDARD
TZOFFSETFROM:+0200
TZOFFSETTO:+0200
TZNAME:SAST
DTSTART:20160101T000000
END:STANDARD
END:VTIMEZONE
BEGIN:VEVENT
DTSTART;VALUE=DATE:20171106
DTEND;VALUE=DATE:20171107
DTSTAMP:20260420T003100
CREATED:20171006T074422Z
LAST-MODIFIED:20171006T074422Z
UID:13850-1509926400-1510012799@www.corruptionwatch.org.za
SUMMARY:Sassa hearing
DESCRIPTION:
URL:https://www.corruptionwatch.org.za/event/sassa-hearing/
END:VEVENT
BEGIN:VEVENT
DTSTART;VALUE=DATE:20171113
DTEND;VALUE=DATE:20171118
DTSTAMP:20260420T003100
CREATED:20171006T074559Z
LAST-MODIFIED:20171006T074559Z
UID:13853-1510531200-1510963199@www.corruptionwatch.org.za
SUMMARY:Community consultations in North West
DESCRIPTION:Discussions to focus on OSF mining
URL:https://www.corruptionwatch.org.za/event/community-consultations-north-west/
END:VEVENT
BEGIN:VEVENT
DTSTART;VALUE=DATE:20171120
DTEND;VALUE=DATE:20171123
DTSTAMP:20260420T003100
CREATED:20171006T074704Z
LAST-MODIFIED:20171006T074704Z
UID:13856-1511136000-1511395199@www.corruptionwatch.org.za
SUMMARY:Nxasana hearing
DESCRIPTION:
URL:https://www.corruptionwatch.org.za/event/nxasana-hearing/
END:VEVENT
BEGIN:VEVENT
DTSTART;VALUE=DATE:20171127
DTEND;VALUE=DATE:20171128
DTSTAMP:20260420T003100
CREATED:20171006T074758Z
LAST-MODIFIED:20171006T074758Z
UID:13859-1511740800-1511827199@www.corruptionwatch.org.za
SUMMARY:Arms deal hearing
DESCRIPTION:Application to compel.
URL:https://www.corruptionwatch.org.za/event/arms-deal-hearing/
END:VEVENT
BEGIN:VEVENT
DTSTART;TZID=Africa/Johannesburg:20171128T090000
DTEND;TZID=Africa/Johannesburg:20171128T120000
DTSTAMP:20260420T003100
CREATED:20171006T075308Z
LAST-MODIFIED:20171006T075308Z
UID:13862-1511859600-1511870400@www.corruptionwatch.org.za
SUMMARY:Project Lokisa media briefing
DESCRIPTION:
URL:https://www.corruptionwatch.org.za/event/project-lokisa-media-briefing/
LOCATION:Marabastad refugee reception centre\, 352 Es'kia Mphahlele Drive\, Asiatic Bazaar\, Tshwane\, Gauteng\, 0001\, South Africa
END:VEVENT
END:VCALENDAR